BEGIN:VCALENDAR
VERSION:2.0
PRODID:-//Tomas Andersson Wij - ECPv6.15.20//NONSGML v1.0//EN
CALSCALE:GREGORIAN
METHOD:PUBLISH
X-WR-CALNAME:Tomas Andersson Wij
X-ORIGINAL-URL:https://tomasanderssonwij.se
X-WR-CALDESC:Händelser för Tomas Andersson Wij
REFRESH-INTERVAL;VALUE=DURATION:PT1H
X-Robots-Tag:noindex
X-PUBLISHED-TTL:PT1H
BEGIN:VTIMEZONE
TZID:Europe/Stockholm
BEGIN:DAYLIGHT
TZOFFSETFROM:+0100
TZOFFSETTO:+0200
TZNAME:CEST
DTSTART:20250330T010000
END:DAYLIGHT
BEGIN:STANDARD
TZOFFSETFROM:+0200
TZOFFSETTO:+0100
TZNAME:CET
DTSTART:20251026T010000
END:STANDARD
BEGIN:DAYLIGHT
TZOFFSETFROM:+0100
TZOFFSETTO:+0200
TZNAME:CEST
DTSTART:20260329T010000
END:DAYLIGHT
BEGIN:STANDARD
TZOFFSETFROM:+0200
TZOFFSETTO:+0100
TZNAME:CET
DTSTART:20261025T010000
END:STANDARD
BEGIN:DAYLIGHT
TZOFFSETFROM:+0100
TZOFFSETTO:+0200
TZNAME:CEST
DTSTART:20270328T010000
END:DAYLIGHT
BEGIN:STANDARD
TZOFFSETFROM:+0200
TZOFFSETTO:+0100
TZNAME:CET
DTSTART:20271031T010000
END:STANDARD
END:VTIMEZONE
BEGIN:VEVENT
DTSTART;VALUE=DATE:20260508
DTEND;VALUE=DATE:20260509
DTSTAMP:20260420T103059
CREATED:20260120T110630Z
LAST-MODIFIED:20260120T110630Z
UID:4425-1778198400-1778284799@tomasanderssonwij.se
SUMMARY:Järvsö kyrka
DESCRIPTION:
URL:https://tomasanderssonwij.se/kalender/jarvso-kyrka/
END:VEVENT
BEGIN:VEVENT
DTSTART;VALUE=DATE:20260509
DTEND;VALUE=DATE:20260510
DTSTAMP:20260420T103059
CREATED:20260120T110700Z
LAST-MODIFIED:20260120T110700Z
UID:4430-1778284800-1778371199@tomasanderssonwij.se
SUMMARY:Stora kyrkan Östersund
DESCRIPTION:
URL:https://tomasanderssonwij.se/kalender/stora-kyrkan-ostersund/
END:VEVENT
BEGIN:VEVENT
DTSTART;VALUE=DATE:20260510
DTEND;VALUE=DATE:20260511
DTSTAMP:20260420T103059
CREATED:20260120T110732Z
LAST-MODIFIED:20260120T110732Z
UID:4435-1778371200-1778457599@tomasanderssonwij.se
SUMMARY:Ockelbo kyrka
DESCRIPTION:
URL:https://tomasanderssonwij.se/kalender/ockelbo-kyrka/
END:VEVENT
BEGIN:VEVENT
DTSTART;VALUE=DATE:20260517
DTEND;VALUE=DATE:20260518
DTSTAMP:20260420T103059
CREATED:20260120T110807Z
LAST-MODIFIED:20260120T110807Z
UID:4440-1778976000-1779062399@tomasanderssonwij.se
SUMMARY:Helga Trefaldighets Kyrka Uppsala
DESCRIPTION:
URL:https://tomasanderssonwij.se/kalender/helga-trefaldighets-kyrka-uppsala/
END:VEVENT
BEGIN:VEVENT
DTSTART;VALUE=DATE:20260822
DTEND;VALUE=DATE:20260823
DTSTAMP:20260420T103059
CREATED:20251211T103411Z
LAST-MODIFIED:20251211T103411Z
UID:4400-1787356800-1787443199@tomasanderssonwij.se
SUMMARY:Tranemo kyrka Tranemo
DESCRIPTION:
URL:https://tomasanderssonwij.se/kalender/tranemo-kyrka-tranemo/
END:VEVENT
BEGIN:VEVENT
DTSTART;VALUE=DATE:20260823
DTEND;VALUE=DATE:20260824
DTSTAMP:20260420T103059
CREATED:20260327T083604Z
LAST-MODIFIED:20260330T141949Z
UID:4463-1787443200-1787529599@tomasanderssonwij.se
SUMMARY:Bergs kyrka\, Lammhult
DESCRIPTION:
URL:https://tomasanderssonwij.se/kalender/bergs-kyrka-lammhult/
END:VEVENT
BEGIN:VEVENT
DTSTART;VALUE=DATE:20260904
DTEND;VALUE=DATE:20260905
DTSTAMP:20260420T103059
CREATED:20260327T083458Z
LAST-MODIFIED:20260327T083458Z
UID:4461-1788480000-1788566399@tomasanderssonwij.se
SUMMARY:Trefaldighetskyrkan Örebro
DESCRIPTION:
URL:https://tomasanderssonwij.se/kalender/trefaldighetskyrkan-orebro-2/
END:VEVENT
BEGIN:VEVENT
DTSTART;VALUE=DATE:20260918
DTEND;VALUE=DATE:20260919
DTSTAMP:20260420T103059
CREATED:20260327T083858Z
LAST-MODIFIED:20260327T083915Z
UID:4469-1789689600-1789775999@tomasanderssonwij.se
SUMMARY:Immanuelkyrkan Borås
DESCRIPTION:
URL:https://tomasanderssonwij.se/kalender/immanuelkyrkan-boras/
END:VEVENT
BEGIN:VEVENT
DTSTART;VALUE=DATE:20260919
DTEND;VALUE=DATE:20260920
DTSTAMP:20260420T103059
CREATED:20251211T103549Z
LAST-MODIFIED:20251211T103549Z
UID:4405-1789776000-1789862399@tomasanderssonwij.se
SUMMARY:Frihamnskyrkan\, Göteborg
DESCRIPTION:
URL:https://tomasanderssonwij.se/kalender/frihamnskyrkan-goteborg/
END:VEVENT
BEGIN:VEVENT
DTSTART;VALUE=DATE:20261003
DTEND;VALUE=DATE:20261004
DTSTAMP:20260420T103059
CREATED:20251211T103727Z
LAST-MODIFIED:20251211T103727Z
UID:4410-1790985600-1791071999@tomasanderssonwij.se
SUMMARY:Filadelfiakyrkan\, Stockholm
DESCRIPTION:
URL:https://tomasanderssonwij.se/kalender/filadelfiakyrkan-stockholm/
END:VEVENT
END:VCALENDAR